BEGIN:VCALENDAR
VERSION:2.0
PRODID:-//Exera - ECPv6.13.2.1//NONSGML v1.0//EN
CALSCALE:GREGORIAN
METHOD:PUBLISH
X-WR-CALNAME:Exera
X-ORIGINAL-URL:https://exera.com
X-WR-CALDESC:Évènements pour Exera
REFRESH-INTERVAL;VALUE=DURATION:PT1H
X-Robots-Tag:noindex
X-PUBLISHED-TTL:PT1H
BEGIN:VTIMEZONE
TZID:Europe/Paris
BEGIN:DAYLIGHT
TZOFFSETFROM:+0100
TZOFFSETTO:+0200
TZNAME:CEST
DTSTART:20260329T010000
END:DAYLIGHT
BEGIN:STANDARD
TZOFFSETFROM:+0200
TZOFFSETTO:+0100
TZNAME:CET
DTSTART:20261025T010000
END:STANDARD
END:VTIMEZONE
BEGIN:VEVENT
DTSTART;VALUE=DATE:20260415
DTEND;VALUE=DATE:20260416
DTSTAMP:20260421T102056
CREATED:20251203T103949Z
LAST-MODIFIED:20251203T103949Z
UID:10000126-1776211200-1776297599@exera.com
SUMMARY:NEWEC SteerCo
DESCRIPTION:Comité de pilotage (Steering committee) du forum NEWEC (NAMUR\, EXERA\, WIB\, Evaluation International\, CLUI AS) \nRéunion à Bruxelles.
URL:https://exera.com/event/newec-steerco-2/
LOCATION:Toulon (lieu à définir)
CATEGORIES:Réunions Exera
END:VEVENT
END:VCALENDAR