BEGIN:VCALENDAR
VERSION:2.0
PRODID:-//Exera - ECPv6.13.2.1//NONSGML v1.0//EN
CALSCALE:GREGORIAN
METHOD:PUBLISH
X-ORIGINAL-URL:https://exera.com
X-WR-CALDESC:Évènements pour Exera
REFRESH-INTERVAL;VALUE=DURATION:PT1H
X-Robots-Tag:noindex
X-PUBLISHED-TTL:PT1H
BEGIN:VTIMEZONE
TZID:Europe/Paris
BEGIN:DAYLIGHT
TZOFFSETFROM:+0100
TZOFFSETTO:+0200
TZNAME:CEST
DTSTART:20260329T010000
END:DAYLIGHT
BEGIN:STANDARD
TZOFFSETFROM:+0200
TZOFFSETTO:+0100
TZNAME:CET
DTSTART:20261025T010000
END:STANDARD
END:VTIMEZONE
BEGIN:VEVENT
DTSTART;VALUE=DATE:20260701
DTEND;VALUE=DATE:20260702
DTSTAMP:20260421T133918
CREATED:20260408T084936Z
LAST-MODIFIED:20260408T085136Z
UID:10000158-1782864000-1782950399@exera.com
SUMMARY:CT SIS
DESCRIPTION:Commission technique Systèmes Instrumentés de Sécurité (SIS) \nRéunion en présentiel et en visioconférence Microsoft Teams de 9H30 à 16H00.
URL:https://exera.com/event/ct-sis-14/
LOCATION:Exera\, 32 rue de Paradis\, Paris\, 75010\, France
CATEGORIES:Commissions Techniques
END:VEVENT
BEGIN:VEVENT
DTSTART;VALUE=DATE:20260709
DTEND;VALUE=DATE:20260710
DTSTAMP:20260421T133918
CREATED:20260317T132132Z
LAST-MODIFIED:20260331T123431Z
UID:10000151-1783555200-1783641599@exera.com
SUMMARY:CT DEB-NIV
DESCRIPTION:CT Débitmétrie-Niveaumétrie (DEB-NIV) \nRéunion en mode mixte (en présentiel à l’Exera et en visioconférence Teams) de 9h30 à 16h. \n 
URL:https://exera.com/event/ct-deb-niv-13/
LOCATION:Exera\, 32 rue de Paradis\, Paris\, 75010\, France
CATEGORIES:Commissions Techniques
END:VEVENT
END:VCALENDAR