BEGIN:VCALENDAR
VERSION:2.0
PRODID:-//Exera - ECPv6.13.2.1//NONSGML v1.0//EN
CALSCALE:GREGORIAN
METHOD:PUBLISH
X-ORIGINAL-URL:https://exera.com
X-WR-CALDESC:Évènements pour Exera
REFRESH-INTERVAL;VALUE=DURATION:PT1H
X-Robots-Tag:noindex
X-PUBLISHED-TTL:PT1H
BEGIN:VTIMEZONE
TZID:Europe/Paris
BEGIN:DAYLIGHT
TZOFFSETFROM:+0100
TZOFFSETTO:+0200
TZNAME:CEST
DTSTART:20260329T010000
END:DAYLIGHT
BEGIN:STANDARD
TZOFFSETFROM:+0200
TZOFFSETTO:+0100
TZNAME:CET
DTSTART:20261025T010000
END:STANDARD
END:VTIMEZONE
BEGIN:VEVENT
DTSTART;VALUE=DATE:20260902
DTEND;VALUE=DATE:20260903
DTSTAMP:20260421T170214
CREATED:20260325T090208Z
LAST-MODIFIED:20260331T123104Z
UID:10000153-1788307200-1788393599@exera.com
SUMMARY:CT 3SP
DESCRIPTION:Commission technique Systèmes de Contrôle-commande\, Supervision\, Simulation et Programmation (3SP). \nRéunion en mode mixte (en présentiel à l’Exera et en visioconférence Microsoft Teams) de 9h30 à 16h00.
URL:https://exera.com/event/ct-3sp-14/
LOCATION:Exera\, 32 rue de Paradis\, Paris\, 75010\, France
CATEGORIES:Commissions Techniques
END:VEVENT
BEGIN:VEVENT
DTSTART;VALUE=DATE:20260903
DTEND;VALUE=DATE:20260904
DTSTAMP:20260421T170214
CREATED:20260408T085054Z
LAST-MODIFIED:20260408T085054Z
UID:10000159-1788393600-1788479999@exera.com
SUMMARY:CT SIS
DESCRIPTION:Commission technique Systèmes Instrumentés de Sécurité (SIS) \nRéunion en présentiel à l’Exera et en visioconférence Microsoft Teams de 9H30 à 16H00.
URL:https://exera.com/event/ct-sis-15/
LOCATION:Exera\, 32 rue de Paradis\, Paris\, 75010\, France
CATEGORIES:Commissions Techniques
END:VEVENT
BEGIN:VEVENT
DTSTART;VALUE=DATE:20260910
DTEND;VALUE=DATE:20260911
DTSTAMP:20260421T170214
CREATED:20260106T181039Z
LAST-MODIFIED:20260331T123044Z
UID:10000143-1788998400-1789084799@exera.com
SUMMARY:CT MCO
DESCRIPTION:Commission technique Maintien en Condition Opérationnelle (MCO). \nRéunion en mode mixte organisée par l’Exera.
URL:https://exera.com/event/ct-mco-10/
LOCATION:Exera\, 32 rue de Paradis\, Paris\, 75010\, France
CATEGORIES:Commissions Techniques
END:VEVENT
END:VCALENDAR