BEGIN:VCALENDAR
VERSION:2.0
PRODID:-//Exera - ECPv6.13.2.1//NONSGML v1.0//EN
CALSCALE:GREGORIAN
METHOD:PUBLISH
X-WR-CALNAME:Exera
X-ORIGINAL-URL:https://exera.com
X-WR-CALDESC:Évènements pour Exera
REFRESH-INTERVAL;VALUE=DURATION:PT1H
X-Robots-Tag:noindex
X-PUBLISHED-TTL:PT1H
BEGIN:VTIMEZONE
TZID:Europe/Paris
BEGIN:DAYLIGHT
TZOFFSETFROM:+0100
TZOFFSETTO:+0200
TZNAME:CEST
DTSTART:20260329T010000
END:DAYLIGHT
BEGIN:STANDARD
TZOFFSETFROM:+0200
TZOFFSETTO:+0100
TZNAME:CET
DTSTART:20261025T010000
END:STANDARD
END:VTIMEZONE
BEGIN:VEVENT
DTSTART;VALUE=DATE:20260416
DTEND;VALUE=DATE:20260417
DTSTAMP:20260419T174250
CREATED:20251204T145110Z
LAST-MODIFIED:20260331T091301Z
UID:10000127-1776297600-1776383999@exera.com
SUMMARY:CT CSI
DESCRIPTION:Réunion de la commission technique Cybersécurité des Systèmes Industriels (CSI) de 10H00 à 16H00\, en mode mixte avec option visioconférence Teams.
URL:https://exera.com/event/ct-csi-6/
LOCATION:Exera\, 32 rue de Paradis\, Paris\, 75010\, France
CATEGORIES:Commissions Techniques
END:VEVENT
BEGIN:VEVENT
DTSTART;VALUE=DATE:20260408
DTEND;VALUE=DATE:20260409
DTSTAMP:20260419T174250
CREATED:20251211T142649Z
LAST-MODIFIED:20260331T081528Z
UID:10000132-1775606400-1775692799@exera.com
SUMMARY:CT AI-DS
DESCRIPTION:Commission Technique Analyseurs Industriels – Détection Sécurité (AI-DS). \nRéunion organisée en mode mixte à l’Exera et en visioconférence Microsoft Teams\, de 9H30 à 16H00.
URL:https://exera.com/event/ct-ai-ds-9/
LOCATION:Exera\, 32 rue de Paradis\, Paris\, 75010\, France
CATEGORIES:Commissions Techniques
END:VEVENT
END:VCALENDAR