BEGIN:VCALENDAR
VERSION:2.0
PRODID:-//Exera - ECPv6.13.2.1//NONSGML v1.0//EN
CALSCALE:GREGORIAN
METHOD:PUBLISH
X-ORIGINAL-URL:https://exera.com
X-WR-CALDESC:Évènements pour Exera
REFRESH-INTERVAL;VALUE=DURATION:PT1H
X-Robots-Tag:noindex
X-PUBLISHED-TTL:PT1H
BEGIN:VTIMEZONE
TZID:Europe/Paris
BEGIN:DAYLIGHT
TZOFFSETFROM:+0100
TZOFFSETTO:+0200
TZNAME:CEST
DTSTART:20260329T010000
END:DAYLIGHT
BEGIN:STANDARD
TZOFFSETFROM:+0200
TZOFFSETTO:+0100
TZNAME:CET
DTSTART:20261025T010000
END:STANDARD
END:VTIMEZONE
BEGIN:VEVENT
DTSTART;VALUE=DATE:20261008
DTEND;VALUE=DATE:20261009
DTSTAMP:20260420T004337
CREATED:20260414T080123Z
LAST-MODIFIED:20260414T080123Z
UID:10000160-1791417600-1791503999@exera.com
SUMMARY:Journée Constructeur - Georgin
DESCRIPTION:Visite des membres de l’Exera chez Georgin à Chatillon \nDate à confirmer \nProgramme réservé aux abonnés
URL:https://exera.com/event/journee-constructeur-georgin/
LOCATION:Georgin – Chatillon\, 14 rue Pierre Sémard\, Chatillon\, 92320\, France
CATEGORIES:Evénements Exera
END:VEVENT
BEGIN:VEVENT
DTSTART;VALUE=DATE:20261015
DTEND;VALUE=DATE:20261016
DTSTAMP:20260420T004337
CREATED:20260414T080210Z
LAST-MODIFIED:20260414T080210Z
UID:10000161-1792022400-1792108799@exera.com
SUMMARY:Journée Constructeur - Georgin
DESCRIPTION:Visite des membres de l’Exera chez Georgin à Chatillon \nDate à confirmer \nProgramme réservé aux abonnés
URL:https://exera.com/event/journee-constructeur-georgin-2/
LOCATION:Georgin – Chatillon\, 14 rue Pierre Sémard\, Chatillon\, 92320\, France
CATEGORIES:Evénements Exera
END:VEVENT
END:VCALENDAR